BEGIN:VCALENDAR
VERSION:2.0
PRODID:-//OGC - ECPv6.3.2//NONSGML v1.0//EN
CALSCALE:GREGORIAN
METHOD:PUBLISH
X-WR-CALNAME:OGC
X-ORIGINAL-URL:https://oldgeorgianclub.com.ar
X-WR-CALDESC:Eventos para OGC
REFRESH-INTERVAL;VALUE=DURATION:PT1H
X-Robots-Tag:noindex
X-PUBLISHED-TTL:PT1H
BEGIN:VTIMEZONE
TZID:America/Sao_Paulo
BEGIN:STANDARD
TZOFFSETFROM:-0300
TZOFFSETTO:-0300
TZNAME:-03
DTSTART:20260101T000000
END:STANDARD
END:VTIMEZONE
BEGIN:VEVENT
DTSTART;VALUE=DATE:20260425
DTEND;VALUE=DATE:20260426
DTSTAMP:20260423T153658
CREATED:20260319T132912Z
LAST-MODIFIED:20260319T132912Z
UID:2285-1777075200-1777161599@oldgeorgianclub.com.ar
SUMMARY:Old Georgian Hockey vs. R. Avellaneda B
DESCRIPTION:Inferiores a partir de las 9 hs. / Intermedia: 14.30 hs. / Primera: 16.00 hs.
URL:https://oldgeorgianclub.com.ar/index.php/evento/old-georgian-hockey-vs-r-avellaneda-b/
LOCATION:Old Georgian Hockey\, Guido 800\, Quilmes\, Buenos Aires\, 1878\, Argentina
END:VEVENT
BEGIN:VEVENT
DTSTART;VALUE=DATE:20260425
DTEND;VALUE=DATE:20260426
DTSTAMP:20260423T153658
CREATED:20260319T141444Z
LAST-MODIFIED:20260319T141444Z
UID:2302-1777075200-1777161599@oldgeorgianclub.com.ar
SUMMARY:El Retiro vs. Old Georgian Rugby
DESCRIPTION:Intermedia 13.45 hs. / Primera 15.30 hs.
URL:https://oldgeorgianclub.com.ar/index.php/evento/el-retiro-vs-old-georgian-rugby/
LOCATION:El Retiro
END:VEVENT
BEGIN:VEVENT
DTSTART;VALUE=DATE:20260425
DTEND;VALUE=DATE:20260426
DTSTAMP:20260423T153658
CREATED:20260423T073942Z
LAST-MODIFIED:20260423T073942Z
UID:2426-1777075200-1777161599@oldgeorgianclub.com.ar
SUMMARY:Platense vs. Old Georgian Hockey Segunda
DESCRIPTION:18.00 hs.
URL:https://oldgeorgianclub.com.ar/index.php/evento/platense-vs-old-georgian-hockey-segunda/
LOCATION:Platense
END:VEVENT
BEGIN:VEVENT
DTSTART;VALUE=DATE:20260425
DTEND;VALUE=DATE:20260426
DTSTAMP:20260423T153658
CREATED:20260423T074044Z
LAST-MODIFIED:20260423T074044Z
UID:2429-1777075200-1777161599@oldgeorgianclub.com.ar
SUMMARY:Old Georgian Hockey Cuarta vs. Los Pinos B
DESCRIPTION:18.00 hs.
URL:https://oldgeorgianclub.com.ar/index.php/evento/old-georgian-hockey-cuarta-vs-los-pinos-b/
LOCATION:Old Georgian Hockey\, Guido 800\, Quilmes\, Buenos Aires\, 1878\, Argentina
END:VEVENT
BEGIN:VEVENT
DTSTART;VALUE=DATE:20260425
DTEND;VALUE=DATE:20260426
DTSTAMP:20260423T153658
CREATED:20260423T074153Z
LAST-MODIFIED:20260423T074153Z
UID:2431-1777075200-1777161599@oldgeorgianclub.com.ar
SUMMARY:Old Georgian Fútbol vs. Nuevo Quilmes
DESCRIPTION:15.00 hs.
URL:https://oldgeorgianclub.com.ar/index.php/evento/old-georgian-futbol-vs-nuevo-quilmes/
LOCATION:OLDG Futbol\, Guido 837\, Quilmes\, Buenos Aires\, 1878\, Argentina
END:VEVENT
BEGIN:VEVENT
DTSTART;VALUE=DATE:20260426
DTEND;VALUE=DATE:20260427
DTSTAMP:20260423T153658
CREATED:20260423T074321Z
LAST-MODIFIED:20260423T074321Z
UID:2433-1777161600-1777247999@oldgeorgianclub.com.ar
SUMMARY:Del Sur vs. Old Georgian Rugby M15
DESCRIPTION:11.00 hs.
URL:https://oldgeorgianclub.com.ar/index.php/evento/del-sur-vs-old-georgian-rugby-m15/
LOCATION:Del Sur
END:VEVENT
END:VCALENDAR