BEGIN:VCALENDAR
VERSION:2.0
PRODID:-//OGC - ECPv6.3.2//NONSGML v1.0//EN
CALSCALE:GREGORIAN
METHOD:PUBLISH
X-WR-CALNAME:OGC
X-ORIGINAL-URL:https://oldgeorgianclub.com.ar
X-WR-CALDESC:Eventos para OGC
REFRESH-INTERVAL;VALUE=DURATION:PT1H
X-Robots-Tag:noindex
X-PUBLISHED-TTL:PT1H
BEGIN:VTIMEZONE
TZID:America/Sao_Paulo
BEGIN:STANDARD
TZOFFSETFROM:-0300
TZOFFSETTO:-0300
TZNAME:-03
DTSTART:20260101T000000
END:STANDARD
END:VTIMEZONE
BEGIN:VEVENT
DTSTART;VALUE=DATE:20260411
DTEND;VALUE=DATE:20260412
DTSTAMP:20260423T185358
CREATED:20260319T132715Z
LAST-MODIFIED:20260407T130326Z
UID:2280-1775865600-1775951999@oldgeorgianclub.com.ar
SUMMARY:Old Georgian Hockey vs. Pueyrredón
DESCRIPTION:Inferiores a partir de las 9 hs. / Intermedia: 14.30 hs. / Primera: 16.00 hs.
URL:https://oldgeorgianclub.com.ar/index.php/evento/old-georgian-hockey-vs-pueyrredon-2/
LOCATION:Old Georgian Hockey\, Guido 800\, Quilmes\, Buenos Aires\, 1878\, Argentina
END:VEVENT
BEGIN:VEVENT
DTSTART;VALUE=DATE:20260404
DTEND;VALUE=DATE:20260405
DTSTAMP:20260423T185358
CREATED:20260403T175727Z
LAST-MODIFIED:20260403T175727Z
UID:2367-1775260800-1775347199@oldgeorgianclub.com.ar
SUMMARY:Old Georgian Tennis vs. Vélez Sarsfield
DESCRIPTION:18.00 hs. Copa Amistad Caballeros
URL:https://oldgeorgianclub.com.ar/index.php/evento/old-georgian-tennis-vs-velez-sarsfield/
LOCATION:Old Georgian Tennis\, Guido 675\, Quilmes
END:VEVENT
BEGIN:VEVENT
DTSTART;VALUE=DATE:20260404
DTEND;VALUE=DATE:20260405
DTSTAMP:20260423T185358
CREATED:20260403T175625Z
LAST-MODIFIED:20260403T175625Z
UID:2365-1775260800-1775347199@oldgeorgianclub.com.ar
SUMMARY:Old Georgian Tennis vs. Lanús
DESCRIPTION:16.00 hs. Copa Amistad Caballeros
URL:https://oldgeorgianclub.com.ar/index.php/evento/old-georgian-tennis-vs-lanus/
LOCATION:Old Georgian Tennis\, Guido 675\, Quilmes
END:VEVENT
BEGIN:VEVENT
DTSTART;VALUE=DATE:20260404
DTEND;VALUE=DATE:20260405
DTSTAMP:20260423T185358
CREATED:20260403T175512Z
LAST-MODIFIED:20260403T175512Z
UID:2363-1775260800-1775347199@oldgeorgianclub.com.ar
SUMMARY:Old Georgian Tennis - Torneo de Verano
DESCRIPTION:10.00 hs. Single
URL:https://oldgeorgianclub.com.ar/index.php/evento/old-georgian-tennis-torneo-de-verano/
LOCATION:Old Georgian Tennis\, Guido 675\, Quilmes
END:VEVENT
BEGIN:VEVENT
DTSTART;VALUE=DATE:20260403
DTEND;VALUE=DATE:20260404
DTSTAMP:20260423T185358
CREATED:20260403T175337Z
LAST-MODIFIED:20260403T175337Z
UID:2361-1775174400-1775260799@oldgeorgianclub.com.ar
SUMMARY:Old Georgian Tennis vs. Los Troncos
DESCRIPTION:18.00 hs. Copa Bequi
URL:https://oldgeorgianclub.com.ar/index.php/evento/old-georgian-tennis-vs-los-troncos-2/
LOCATION:Old Georgian Tennis\, Guido 675\, Quilmes
END:VEVENT
BEGIN:VEVENT
DTSTART;VALUE=DATE:20260403
DTEND;VALUE=DATE:20260404
DTSTAMP:20260423T185358
CREATED:20260403T175250Z
LAST-MODIFIED:20260403T175250Z
UID:2359-1775174400-1775260799@oldgeorgianclub.com.ar
SUMMARY:Old Georgian Tennis 4ta. vs. Nuevo Quilmes
DESCRIPTION:16.00 hs. Liga Intercountry
URL:https://oldgeorgianclub.com.ar/index.php/evento/old-georgian-tennis-4ta-vs-nuevo-quilmes/
LOCATION:Old Georgian Tennis\, Guido 675\, Quilmes
END:VEVENT
BEGIN:VEVENT
DTSTART;VALUE=DATE:20260403
DTEND;VALUE=DATE:20260404
DTSTAMP:20260423T185358
CREATED:20260403T175201Z
LAST-MODIFIED:20260403T175201Z
UID:2355-1775174400-1775260799@oldgeorgianclub.com.ar
SUMMARY:Old Georgian Tennis 3ra. vs. Altos de Hudson
DESCRIPTION:14.00 hs. Liga Intercountry
URL:https://oldgeorgianclub.com.ar/index.php/evento/old-georgian-tennis-3ra-vs-altos-de-hudson/
LOCATION:Old Georgian Tennis\, Guido 675\, Quilmes
END:VEVENT
BEGIN:VEVENT
DTSTART;VALUE=DATE:20260329
DTEND;VALUE=DATE:20260330
DTSTAMP:20260423T185358
CREATED:20260327T143838Z
LAST-MODIFIED:20260327T143838Z
UID:2348-1774742400-1774828799@oldgeorgianclub.com.ar
SUMMARY:Old Georgian Tennis vs. Regatas de Avellaneda
DESCRIPTION:Copa Amistad + 50 A Damas
URL:https://oldgeorgianclub.com.ar/index.php/evento/old-georgian-tennis-vs-regatas-de-avellaneda/
LOCATION:Guido\, Guido 800\, Quilmes\, Buenos Aires\, 1878\, Argentina
END:VEVENT
BEGIN:VEVENT
DTSTART;VALUE=DATE:20260329
DTEND;VALUE=DATE:20260330
DTSTAMP:20260423T185358
CREATED:20260327T140328Z
LAST-MODIFIED:20260327T140328Z
UID:2343-1774742400-1774828799@oldgeorgianclub.com.ar
SUMMARY:Old Georgian Rugby Juveniles vs. Don Bosco y Centro Naval
DESCRIPTION:M15 9.30 hs. / M19 B 11.30 hs. / M19 A 13.30 hs.
URL:https://oldgeorgianclub.com.ar/index.php/evento/old-georgian-rugby-juveniles-vs-don-bosco-y-centro-naval/
LOCATION:OLDG Rugby\, Guido 837\, Quilmes\, Buenos Aires\, 1878\, Argentina
END:VEVENT
BEGIN:VEVENT
DTSTART;VALUE=DATE:20260329
DTEND;VALUE=DATE:20260330
DTSTAMP:20260423T185358
CREATED:20260327T140216Z
LAST-MODIFIED:20260327T140216Z
UID:2341-1774742400-1774828799@oldgeorgianclub.com.ar
SUMMARY:Old Georgian Rugby M17 vs. Don Bosco y Centro Naval
DESCRIPTION:12.00 hs.
URL:https://oldgeorgianclub.com.ar/index.php/evento/old-georgian-rugby-m17-vs-don-bosco-y-centro-naval/
LOCATION:Don Bosco Rugby
END:VEVENT
BEGIN:VEVENT
DTSTART;VALUE=DATE:20260328
DTEND;VALUE=DATE:20260329
DTSTAMP:20260423T185358
CREATED:20260327T144236Z
LAST-MODIFIED:20260327T144236Z
UID:2352-1774656000-1774742399@oldgeorgianclub.com.ar
SUMMARY:Old Georgian Tennis vs. El Carmen
DESCRIPTION:16.00 hs. Liga Intercountry
URL:https://oldgeorgianclub.com.ar/index.php/evento/old-georgian-tennis-vs-el-carmen-2/
LOCATION:Guido\, Guido 800\, Quilmes\, Buenos Aires\, 1878\, Argentina
END:VEVENT
BEGIN:VEVENT
DTSTART;VALUE=DATE:20260328
DTEND;VALUE=DATE:20260329
DTSTAMP:20260423T185358
CREATED:20260327T144154Z
LAST-MODIFIED:20260327T144154Z
UID:2350-1774656000-1774742399@oldgeorgianclub.com.ar
SUMMARY:Old Georgian Tennis 3ra. vs. Miralagos
DESCRIPTION:14.00 hs. Liga Intercountry
URL:https://oldgeorgianclub.com.ar/index.php/evento/old-georgian-tennis-3ra-vs-miralagos-2/
LOCATION:Guido\, Guido 800\, Quilmes\, Buenos Aires\, 1878\, Argentina
END:VEVENT
BEGIN:VEVENT
DTSTART;VALUE=DATE:20260328
DTEND;VALUE=DATE:20260329
DTSTAMP:20260423T185358
CREATED:20260327T135718Z
LAST-MODIFIED:20260327T135718Z
UID:2339-1774656000-1774742399@oldgeorgianclub.com.ar
SUMMARY:Old Georgian Hockey Segunda vs. AACF Quilmes
DESCRIPTION:18.00 hs.
URL:https://oldgeorgianclub.com.ar/index.php/evento/old-georgian-hockey-segunda-vs-aacf-quilmes/
LOCATION:Old Georgian Hockey\, Guido 800\, Quilmes\, Buenos Aires\, 1878\, Argentina
END:VEVENT
BEGIN:VEVENT
DTSTART;VALUE=DATE:20260328
DTEND;VALUE=DATE:20260329
DTSTAMP:20260423T185358
CREATED:20260327T135550Z
LAST-MODIFIED:20260327T172514Z
UID:2336-1774656000-1774742399@oldgeorgianclub.com.ar
SUMMARY:Club J.M. vs. Old Georgian Hockey Cuarta
DESCRIPTION:18.00 hs.
URL:https://oldgeorgianclub.com.ar/index.php/evento/club-j-m-vs-old-georgian-hockey-cuarta/
LOCATION:CLUB J.M.
END:VEVENT
BEGIN:VEVENT
DTSTART;VALUE=DATE:20260328
DTEND;VALUE=DATE:20260329
DTSTAMP:20260423T185358
CREATED:20260327T134944Z
LAST-MODIFIED:20260327T134944Z
UID:2334-1774656000-1774742399@oldgeorgianclub.com.ar
SUMMARY:Old Georgian Fútbol vs. Greenville
DESCRIPTION:15.00 hs.
URL:https://oldgeorgianclub.com.ar/index.php/evento/old-georgian-futbol-vs-greenville/
LOCATION:OLDG Futbol\, Guido 837\, Quilmes\, Buenos Aires\, 1878\, Argentina
END:VEVENT
BEGIN:VEVENT
DTSTART;VALUE=DATE:20260328
DTEND;VALUE=DATE:20260329
DTSTAMP:20260423T185358
CREATED:20260319T140356Z
LAST-MODIFIED:20260327T140434Z
UID:2295-1774656000-1774742399@oldgeorgianclub.com.ar
SUMMARY:Old Georgian Rugby vs. Atlético y Progreso
DESCRIPTION:Pre-Intermedia 12.00 hs. / Intermedia 13.45 hs. / Primera 15.30 hs.
URL:https://oldgeorgianclub.com.ar/index.php/evento/old-georgian-rugby-vs-atletico-y-progreso-2/
LOCATION:OLDG Rugby\, Guido 837\, Quilmes\, Buenos Aires\, 1878\, Argentina
END:VEVENT
BEGIN:VEVENT
DTSTART;VALUE=DATE:20260328
DTEND;VALUE=DATE:20260329
DTSTAMP:20260423T185358
CREATED:20260319T132614Z
LAST-MODIFIED:20260319T132614Z
UID:2277-1774656000-1774742399@oldgeorgianclub.com.ar
SUMMARY:Berazategui vs. Old Georgian Hockey
DESCRIPTION:Inferiores a partir de las 9 hs. / Intermedia: 14.30 hs. / Primera: 16.00 hs.
URL:https://oldgeorgianclub.com.ar/index.php/evento/berazategui-vs-old-georgian-hockey/
LOCATION:Berazategui
END:VEVENT
BEGIN:VEVENT
DTSTART;VALUE=DATE:20260324
DTEND;VALUE=DATE:20260325
DTSTAMP:20260423T185358
CREATED:20260319T132514Z
LAST-MODIFIED:20260323T171027Z
UID:2275-1774310400-1774396799@oldgeorgianclub.com.ar
SUMMARY:Old Georgian Hockey vs. G.E.L.P.
DESCRIPTION:Inferiores a partir de las 9 hs. / Intermedia: 14.30 hs. / Primera: 16.00 hs.
URL:https://oldgeorgianclub.com.ar/index.php/evento/old-georgian-hockey-vs-g-e-l-p/
LOCATION:Old Georgian Hockey\, Guido 800\, Quilmes\, Buenos Aires\, 1878\, Argentina
END:VEVENT
BEGIN:VEVENT
DTSTART;VALUE=DATE:20260322
DTEND;VALUE=DATE:20260323
DTSTAMP:20260423T185358
CREATED:20260320T192508Z
LAST-MODIFIED:20260320T192508Z
UID:2330-1774137600-1774223999@oldgeorgianclub.com.ar
SUMMARY:Old Georgian Tennis: Torneo de Verano Caballeros
DESCRIPTION:10.00 hs. Single y Dobles (A\,B\,C y D)
URL:https://oldgeorgianclub.com.ar/index.php/evento/old-georgian-tennis-torneo-de-verano-caballeros-7/
LOCATION:Guido\, Guido 800\, Quilmes\, Buenos Aires\, 1878\, Argentina
END:VEVENT
BEGIN:VEVENT
DTSTART;VALUE=DATE:20260322
DTEND;VALUE=DATE:20260323
DTSTAMP:20260423T185358
CREATED:20260319T142336Z
LAST-MODIFIED:20260319T142731Z
UID:2317-1774137600-1774223999@oldgeorgianclub.com.ar
SUMMARY:Old Georgian Rugby Juveniles: Triangular vs. Del Sur y Monte Grande
DESCRIPTION:M15 11.00 hs. / M17 13.00 hs. /  M19 A-B 13.00 hs.
URL:https://oldgeorgianclub.com.ar/index.php/evento/old-georgian-rugby-juveniles-triangular-vs-del-sur-y-monte-grande/
LOCATION:Monte Grande
END:VEVENT
BEGIN:VEVENT
DTSTART;VALUE=DATE:20260321
DTEND;VALUE=DATE:20260322
DTSTAMP:20260423T185358
CREATED:20260320T192401Z
LAST-MODIFIED:20260320T192401Z
UID:2328-1774051200-1774137599@oldgeorgianclub.com.ar
SUMMARY:Old Georgian Tennis 4ta. vs. El Carmen
DESCRIPTION:16.00 hs. Liga Intercountry
URL:https://oldgeorgianclub.com.ar/index.php/evento/old-georgian-tennis-4ta-vs-el-carmen/
LOCATION:Guido\, Guido 800\, Quilmes\, Buenos Aires\, 1878\, Argentina
END:VEVENT
BEGIN:VEVENT
DTSTART;VALUE=DATE:20260321
DTEND;VALUE=DATE:20260322
DTSTAMP:20260423T185358
CREATED:20260320T192258Z
LAST-MODIFIED:20260320T192258Z
UID:2326-1774051200-1774137599@oldgeorgianclub.com.ar
SUMMARY:Old Georgian Tennis 3ra. vs. Miralagos
DESCRIPTION:14.00 hs. Liga Intercountry
URL:https://oldgeorgianclub.com.ar/index.php/evento/old-georgian-tennis-3ra-vs-miralagos/
LOCATION:Guido\, Guido 800\, Quilmes\, Buenos Aires\, 1878\, Argentina
END:VEVENT
BEGIN:VEVENT
DTSTART;VALUE=DATE:20260321
DTEND;VALUE=DATE:20260322
DTSTAMP:20260423T185358
CREATED:20260320T131234Z
LAST-MODIFIED:20260320T131234Z
UID:2323-1774051200-1774137599@oldgeorgianclub.com.ar
SUMMARY:Old Georgian Hockey Cuarta vs. Pucará
DESCRIPTION:18.00 hs.
URL:https://oldgeorgianclub.com.ar/index.php/evento/old-georgian-hockey-cuarta-vs-pucara/
LOCATION:Old Georgian Hockey\, Guido 800\, Quilmes\, Buenos Aires\, 1878\, Argentina
END:VEVENT
BEGIN:VEVENT
DTSTART;VALUE=DATE:20260321
DTEND;VALUE=DATE:20260322
DTSTAMP:20260423T185358
CREATED:20260320T124502Z
LAST-MODIFIED:20260320T124502Z
UID:2320-1774051200-1774137599@oldgeorgianclub.com.ar
SUMMARY:Old Georgian Fútbol vs. Hindú
DESCRIPTION:15.30 hs. SuperFinal
URL:https://oldgeorgianclub.com.ar/index.php/evento/old-georgian-futbol-vs-hindu/
LOCATION:Country Aranzazu
END:VEVENT
BEGIN:VEVENT
DTSTART;VALUE=DATE:20260321
DTEND;VALUE=DATE:20260322
DTSTAMP:20260423T185358
CREATED:20260319T140247Z
LAST-MODIFIED:20260319T140247Z
UID:2292-1774051200-1774137599@oldgeorgianclub.com.ar
SUMMARY:Vicente López vs. Old Georgian Rugby
DESCRIPTION:Intermedia 13.45 hs. / Primera 15.30 hs.
URL:https://oldgeorgianclub.com.ar/index.php/evento/vicente-lopez-vs-old-georgian-rugby/
LOCATION:Vicente López
END:VEVENT
BEGIN:VEVENT
DTSTART;VALUE=DATE:20260315
DTEND;VALUE=DATE:20260316
DTSTAMP:20260423T185358
CREATED:20260313T194711Z
LAST-MODIFIED:20260313T194711Z
UID:2273-1773532800-1773619199@oldgeorgianclub.com.ar
SUMMARY:Old Georgian Tennis – Torneo de Verano Caballeros
DESCRIPTION:11.00 hs. Categorías A\, B\, C y D
URL:https://oldgeorgianclub.com.ar/index.php/evento/old-georgian-tennis-torneo-de-verano-caballeros-6/
LOCATION:Buenos Aires
END:VEVENT
BEGIN:VEVENT
DTSTART;VALUE=DATE:20260315
DTEND;VALUE=DATE:20260316
DTSTAMP:20260423T185358
CREATED:20260313T170738Z
LAST-MODIFIED:20260313T170738Z
UID:2265-1773532800-1773619199@oldgeorgianclub.com.ar
SUMMARY:Old Georgian Rugby Juveniles vs. C.A.R.
DESCRIPTION:M15 9.30 hs. / M17 11.00 hs. / M19 B 12.30 hs. / M19 A 14.00 hs.
URL:https://oldgeorgianclub.com.ar/index.php/evento/old-georgian-rugby-juveniles-vs-c-a-r/
LOCATION:OLDG Rugby\, Guido 837\, Quilmes\, Buenos Aires\, 1878\, Argentina
END:VEVENT
BEGIN:VEVENT
DTSTART;VALUE=DATE:20260314
DTEND;VALUE=DATE:20260315
DTSTAMP:20260423T185358
CREATED:20260313T194626Z
LAST-MODIFIED:20260313T194626Z
UID:2271-1773446400-1773532799@oldgeorgianclub.com.ar
SUMMARY:Old Georgian Tennis – Torneo de Verano Caballeros
DESCRIPTION:Categorías A\, B\, C y D
URL:https://oldgeorgianclub.com.ar/index.php/evento/old-georgian-tennis-torneo-de-verano-caballeros-5/
LOCATION:Guido\, Guido 800\, Quilmes\, Buenos Aires\, 1878\, Argentina
END:VEVENT
BEGIN:VEVENT
DTSTART;VALUE=DATE:20260314
DTEND;VALUE=DATE:20260315
DTSTAMP:20260423T185358
CREATED:20260313T171051Z
LAST-MODIFIED:20260313T171051Z
UID:2268-1773446400-1773532799@oldgeorgianclub.com.ar
SUMMARY:Old Georgian Fútbol vs. Club Unión de Ezpeleta
DESCRIPTION:16.00 hs.
URL:https://oldgeorgianclub.com.ar/index.php/evento/old-georgian-futbol-vs-club-union-de-ezpeleta/
LOCATION:OLDG Futbol\, Guido 837\, Quilmes\, Buenos Aires\, 1878\, Argentina
END:VEVENT
BEGIN:VEVENT
DTSTART;VALUE=DATE:20260314
DTEND;VALUE=DATE:20260315
DTSTAMP:20260423T185358
CREATED:20260313T170631Z
LAST-MODIFIED:20260313T170631Z
UID:2263-1773446400-1773532799@oldgeorgianclub.com.ar
SUMMARY:Old Georgian Rugby Infantiles
DESCRIPTION:10.00 hs. vs. Don Bosco y Varela Jr.
URL:https://oldgeorgianclub.com.ar/index.php/evento/old-georgian-rugby-infantiles-2/
LOCATION:Don Bosco Rugby
END:VEVENT
END:VCALENDAR