BEGIN:VCALENDAR
VERSION:2.0
PRODID:-//OGC - ECPv6.3.2//NONSGML v1.0//EN
CALSCALE:GREGORIAN
METHOD:PUBLISH
X-WR-CALNAME:OGC
X-ORIGINAL-URL:https://oldgeorgianclub.com.ar
X-WR-CALDESC:Eventos para OGC
REFRESH-INTERVAL;VALUE=DURATION:PT1H
X-Robots-Tag:noindex
X-PUBLISHED-TTL:PT1H
BEGIN:VTIMEZONE
TZID:America/Sao_Paulo
BEGIN:STANDARD
TZOFFSETFROM:-0300
TZOFFSETTO:-0300
TZNAME:-03
DTSTART:20260101T000000
END:STANDARD
END:VTIMEZONE
BEGIN:VEVENT
DTSTART;VALUE=DATE:20260425
DTEND;VALUE=DATE:20260426
DTSTAMP:20260423T185347
CREATED:20260319T132912Z
LAST-MODIFIED:20260319T132912Z
UID:2285-1777075200-1777161599@oldgeorgianclub.com.ar
SUMMARY:Old Georgian Hockey vs. R. Avellaneda B
DESCRIPTION:Inferiores a partir de las 9 hs. / Intermedia: 14.30 hs. / Primera: 16.00 hs.
URL:https://oldgeorgianclub.com.ar/index.php/evento/old-georgian-hockey-vs-r-avellaneda-b/
LOCATION:Old Georgian Hockey\, Guido 800\, Quilmes\, Buenos Aires\, 1878\, Argentina
END:VEVENT
BEGIN:VEVENT
DTSTART;VALUE=DATE:20260425
DTEND;VALUE=DATE:20260426
DTSTAMP:20260423T185347
CREATED:20260319T141444Z
LAST-MODIFIED:20260423T195655Z
UID:2302-1777075200-1777161599@oldgeorgianclub.com.ar
SUMMARY:El Retiro vs. Old Georgian Rugby
DESCRIPTION:Pre-Intermedia 12.00 hs. /Intermedia 13.45 hs. / Primera 15.30 hs.
URL:https://oldgeorgianclub.com.ar/index.php/evento/el-retiro-vs-old-georgian-rugby/
LOCATION:El Retiro
END:VEVENT
BEGIN:VEVENT
DTSTART;VALUE=DATE:20260425
DTEND;VALUE=DATE:20260426
DTSTAMP:20260423T185347
CREATED:20260423T073942Z
LAST-MODIFIED:20260423T073942Z
UID:2426-1777075200-1777161599@oldgeorgianclub.com.ar
SUMMARY:Platense vs. Old Georgian Hockey Segunda
DESCRIPTION:18.00 hs.
URL:https://oldgeorgianclub.com.ar/index.php/evento/platense-vs-old-georgian-hockey-segunda/
LOCATION:Platense
END:VEVENT
BEGIN:VEVENT
DTSTART;VALUE=DATE:20260425
DTEND;VALUE=DATE:20260426
DTSTAMP:20260423T185347
CREATED:20260423T074044Z
LAST-MODIFIED:20260423T074044Z
UID:2429-1777075200-1777161599@oldgeorgianclub.com.ar
SUMMARY:Old Georgian Hockey Cuarta vs. Los Pinos B
DESCRIPTION:18.00 hs.
URL:https://oldgeorgianclub.com.ar/index.php/evento/old-georgian-hockey-cuarta-vs-los-pinos-b/
LOCATION:Old Georgian Hockey\, Guido 800\, Quilmes\, Buenos Aires\, 1878\, Argentina
END:VEVENT
BEGIN:VEVENT
DTSTART;VALUE=DATE:20260425
DTEND;VALUE=DATE:20260426
DTSTAMP:20260423T185347
CREATED:20260423T074153Z
LAST-MODIFIED:20260423T074153Z
UID:2431-1777075200-1777161599@oldgeorgianclub.com.ar
SUMMARY:Old Georgian Fútbol vs. Nuevo Quilmes
DESCRIPTION:15.00 hs.
URL:https://oldgeorgianclub.com.ar/index.php/evento/old-georgian-futbol-vs-nuevo-quilmes/
LOCATION:OLDG Futbol\, Guido 837\, Quilmes\, Buenos Aires\, 1878\, Argentina
END:VEVENT
BEGIN:VEVENT
DTSTART;VALUE=DATE:20260425
DTEND;VALUE=DATE:20260426
DTSTAMP:20260423T185347
CREATED:20260423T195313Z
LAST-MODIFIED:20260423T195313Z
UID:2436-1777075200-1777161599@oldgeorgianclub.com.ar
SUMMARY:Old Georgian Tennis vs. Miralagos
DESCRIPTION:14.00 hs. Liga Intercountry Damas 3ra.
URL:https://oldgeorgianclub.com.ar/index.php/evento/old-georgian-tennis-vs-miralagos-2/
LOCATION:Old Georgian Tennis\, Guido 675\, Quilmes
END:VEVENT
BEGIN:VEVENT
DTSTART;VALUE=DATE:20260425
DTEND;VALUE=DATE:20260426
DTSTAMP:20260423T185347
CREATED:20260423T195410Z
LAST-MODIFIED:20260423T195410Z
UID:2438-1777075200-1777161599@oldgeorgianclub.com.ar
SUMMARY:Old Georgian Tennis vs. Parque Tenis
DESCRIPTION:16.00 hs. Liga Intercountry Damas 4ta.
URL:https://oldgeorgianclub.com.ar/index.php/evento/old-georgian-tennis-vs-parque-tenis-3/
LOCATION:Old Georgian Tennis\, Guido 675\, Quilmes
END:VEVENT
BEGIN:VEVENT
DTSTART;VALUE=DATE:20260426
DTEND;VALUE=DATE:20260427
DTSTAMP:20260423T185347
CREATED:20260423T074321Z
LAST-MODIFIED:20260423T074321Z
UID:2433-1777161600-1777247999@oldgeorgianclub.com.ar
SUMMARY:Del Sur vs. Old Georgian Rugby M15
DESCRIPTION:11.00 hs.
URL:https://oldgeorgianclub.com.ar/index.php/evento/del-sur-vs-old-georgian-rugby-m15/
LOCATION:Del Sur
END:VEVENT
BEGIN:VEVENT
DTSTART;VALUE=DATE:20260502
DTEND;VALUE=DATE:20260503
DTSTAMP:20260423T185347
CREATED:20260319T133002Z
LAST-MODIFIED:20260319T133002Z
UID:2287-1777680000-1777766399@oldgeorgianclub.com.ar
SUMMARY:R. Avellaneda vs. Old Georgian Hockey
DESCRIPTION:Inferiores a partir de las 9 hs. / Intermedia: 14.30 hs. / Primera: 16.00 hs.
URL:https://oldgeorgianclub.com.ar/index.php/evento/r-avellaneda-vs-old-georgian-hockey/
LOCATION:R. Avellaneda
END:VEVENT
BEGIN:VEVENT
DTSTART;VALUE=DATE:20260509
DTEND;VALUE=DATE:20260510
DTSTAMP:20260423T185347
CREATED:20260319T133111Z
LAST-MODIFIED:20260319T133111Z
UID:2290-1778284800-1778371199@oldgeorgianclub.com.ar
SUMMARY:Old Georgian Hockey vs. Vélez B
DESCRIPTION:Inferiores a partir de las 9 hs. / Intermedia: 14.30 hs. / Primera: 16.00 hs.
URL:https://oldgeorgianclub.com.ar/index.php/evento/old-georgian-hockey-vs-velez-b/
LOCATION:Old Georgian Hockey\, Guido 800\, Quilmes\, Buenos Aires\, 1878\, Argentina
END:VEVENT
BEGIN:VEVENT
DTSTART;VALUE=DATE:20260509
DTEND;VALUE=DATE:20260510
DTSTAMP:20260423T185347
CREATED:20260319T141547Z
LAST-MODIFIED:20260319T141547Z
UID:2305-1778284800-1778371199@oldgeorgianclub.com.ar
SUMMARY:Old Georgian Rugby vs. La Salle
DESCRIPTION:Intermedia 13.45 hs. / Primera 15.30 hs.
URL:https://oldgeorgianclub.com.ar/index.php/evento/old-georgian-rugby-vs-la-salle-2/
LOCATION:OLDG Rugby\, Guido 837\, Quilmes\, Buenos Aires\, 1878\, Argentina
END:VEVENT
BEGIN:VEVENT
DTSTART;VALUE=DATE:20260516
DTEND;VALUE=DATE:20260517
DTSTAMP:20260423T185347
CREATED:20260319T141647Z
LAST-MODIFIED:20260319T141647Z
UID:2307-1778889600-1778975999@oldgeorgianclub.com.ar
SUMMARY:Los Pinos vs. Old Georgian Rugby
DESCRIPTION:Intermedia 13.45 hs. / Primera 15.30 hs.
URL:https://oldgeorgianclub.com.ar/index.php/evento/los-pinos-vs-old-georgian-rugby/
LOCATION:Los Pinos
END:VEVENT
BEGIN:VEVENT
DTSTART;VALUE=DATE:20260516
DTEND;VALUE=DATE:20260517
DTSTAMP:20260423T185347
CREATED:20260319T141942Z
LAST-MODIFIED:20260319T141942Z
UID:2312-1778889600-1778975999@oldgeorgianclub.com.ar
SUMMARY:Porteño vs. Old Georgian Hockey
DESCRIPTION:Inferiores a partir de las 9 hs. / Intermedia: 14.30 hs. / Primera: 16.00 hs.
URL:https://oldgeorgianclub.com.ar/index.php/evento/porteno-vs-old-georgian-hockey/
LOCATION:Porteño
END:VEVENT
BEGIN:VEVENT
DTSTART;VALUE=DATE:20260523
DTEND;VALUE=DATE:20260524
DTSTAMP:20260423T185347
CREATED:20260319T141754Z
LAST-MODIFIED:20260319T141754Z
UID:2310-1779494400-1779580799@oldgeorgianclub.com.ar
SUMMARY:Old Georgian Rugby vs. Atlético Chascomús
DESCRIPTION:Intermedia 13.45 hs. / Primera 15.30 hs.
URL:https://oldgeorgianclub.com.ar/index.php/evento/old-georgian-rugby-vs-atletico-chascomus/
LOCATION:OLDG Rugby\, Guido 837\, Quilmes\, Buenos Aires\, 1878\, Argentina
END:VEVENT
BEGIN:VEVENT
DTSTART;VALUE=DATE:20260530
DTEND;VALUE=DATE:20260531
DTSTAMP:20260423T185347
CREATED:20260319T142030Z
LAST-MODIFIED:20260319T142030Z
UID:2315-1780099200-1780185599@oldgeorgianclub.com.ar
SUMMARY:Old Georgian Hockey vs. Los Matreros
DESCRIPTION:Inferiores a partir de las 9 hs. / Intermedia: 14.30 hs. / Primera: 16.00 hs.
URL:https://oldgeorgianclub.com.ar/index.php/evento/old-georgian-hockey-vs-los-matreros/
LOCATION:Old Georgian Hockey\, Guido 800\, Quilmes\, Buenos Aires\, 1878\, Argentina
END:VEVENT
BEGIN:VEVENT
DTSTART;VALUE=DATE:20260606
DTEND;VALUE=DATE:20260607
DTSTAMP:20260423T185347
CREATED:20260407T124825Z
LAST-MODIFIED:20260407T124825Z
UID:2379-1780704000-1780790399@oldgeorgianclub.com.ar
SUMMARY:Tigre vs. Old Georgian Rugby
DESCRIPTION:Pre-Intermedia 12.00 hs. / Intermedia 13.45 hs. / Primera 15.30 hs.
URL:https://oldgeorgianclub.com.ar/index.php/evento/tigre-vs-old-georgian-rugby/
LOCATION:Tigre R.C.
END:VEVENT
BEGIN:VEVENT
DTSTART;VALUE=DATE:20260606
DTEND;VALUE=DATE:20260607
DTSTAMP:20260423T185347
CREATED:20260407T124945Z
LAST-MODIFIED:20260407T124945Z
UID:2381-1780704000-1780790399@oldgeorgianclub.com.ar
SUMMARY:San Marcos vs. Old Georgian Hockey
DESCRIPTION:Inferiores a partir de las 9 hs. / Intermedia: 14.30 hs. / Primera: 16.00 hs.
URL:https://oldgeorgianclub.com.ar/index.php/evento/san-marcos-vs-old-georgian-hockey-2/
LOCATION:San Marcos\, Faro Patagonia y Neuquén\, Monte Grande\, Buenos Aires\, 1842\, Argentina
END:VEVENT
END:VCALENDAR