BEGIN:VCALENDAR
VERSION:2.0
PRODID:-//OGC - ECPv6.3.2//NONSGML v1.0//EN
CALSCALE:GREGORIAN
METHOD:PUBLISH
X-WR-CALNAME:OGC
X-ORIGINAL-URL:https://oldgeorgianclub.com.ar
X-WR-CALDESC:Eventos para OGC
REFRESH-INTERVAL;VALUE=DURATION:PT1H
X-Robots-Tag:noindex
X-PUBLISHED-TTL:PT1H
BEGIN:VTIMEZONE
TZID:America/Sao_Paulo
BEGIN:STANDARD
TZOFFSETFROM:-0300
TZOFFSETTO:-0300
TZNAME:-03
DTSTART:20250101T000000
END:STANDARD
END:VTIMEZONE
BEGIN:VEVENT
DTSTART;VALUE=DATE:20251121
DTEND;VALUE=DATE:20251122
DTSTAMP:20260424T071717
CREATED:20251110T201426Z
LAST-MODIFIED:20251120T134908Z
UID:2112-1763683200-1763769599@oldgeorgianclub.com.ar
SUMMARY:Old Georgian Cricket vs. Cricket Sin Fronteras
DESCRIPTION:10.00 hs. Div. 2
URL:https://oldgeorgianclub.com.ar/index.php/evento/cricket-sin-fronteras-vs-old-georgian-cricket/
LOCATION:OldG Cricket\, Guido 800\, Quilmes\, Buenos Aires\, 1878\, Argentina
END:VEVENT
BEGIN:VEVENT
DTSTART;VALUE=DATE:20251122
DTEND;VALUE=DATE:20251123
DTSTAMP:20260424T071717
CREATED:20251110T201644Z
LAST-MODIFIED:20251110T201644Z
UID:2114-1763769600-1763855999@oldgeorgianclub.com.ar
SUMMARY:Hurlingham vs. Old Georgian Cricket
DESCRIPTION:10.00 hs. Div. 2 / 15.00 hs. Div. 1
URL:https://oldgeorgianclub.com.ar/index.php/evento/hurlingham-vs-old-georgian-cricket/
LOCATION:Hurlingham
END:VEVENT
BEGIN:VEVENT
DTSTART;VALUE=DATE:20251122
DTEND;VALUE=DATE:20251123
DTSTAMP:20260424T071717
CREATED:20251113T135845Z
LAST-MODIFIED:20251120T134226Z
UID:2144-1763769600-1763855999@oldgeorgianclub.com.ar
SUMMARY:Las Golondrinas Azul vs. Old Georgian Fútbol Senior
DESCRIPTION:16.00 hs.
URL:https://oldgeorgianclub.com.ar/index.php/evento/las-golondrinas-azul-vs-old-georgian-futbol-senior/
LOCATION:Las Golondrinas
END:VEVENT
BEGIN:VEVENT
DTSTART;VALUE=DATE:20251122
DTEND;VALUE=DATE:20251123
DTSTAMP:20260424T071717
CREATED:20251120T201014Z
LAST-MODIFIED:20251120T201014Z
UID:2170-1763769600-1763855999@oldgeorgianclub.com.ar
SUMMARY:Old Georgian Tennis – Copa Primavera
DESCRIPTION:A partir de las 10.00 hs.
URL:https://oldgeorgianclub.com.ar/index.php/evento/old-georgian-tennis-copa-primavera/
LOCATION:Guido\, Guido 800\, Quilmes\, Buenos Aires\, 1878\, Argentina
END:VEVENT
BEGIN:VEVENT
DTSTART;VALUE=DATE:20251122
DTEND;VALUE=DATE:20251123
DTSTAMP:20260424T071717
CREATED:20251120T201137Z
LAST-MODIFIED:20251120T201137Z
UID:2172-1763769600-1763855999@oldgeorgianclub.com.ar
SUMMARY:Old Georgian Tennis vs. El Pato
DESCRIPTION:14.00 hs. Liga Country Sur
URL:https://oldgeorgianclub.com.ar/index.php/evento/old-georgian-tennis-vs-el-pato/
LOCATION:Guido\, Guido 800\, Quilmes\, Buenos Aires\, 1878\, Argentina
END:VEVENT
BEGIN:VEVENT
DTSTART;VALUE=DATE:20251122
DTEND;VALUE=DATE:20251123
DTSTAMP:20260424T071717
CREATED:20251120T201228Z
LAST-MODIFIED:20251120T201228Z
UID:2174-1763769600-1763855999@oldgeorgianclub.com.ar
SUMMARY:Old Georgian Tennis vs. Club Lomas de City Bell
DESCRIPTION:16.00 hs. Liga Country Sur
URL:https://oldgeorgianclub.com.ar/index.php/evento/old-georgian-tennis-vs-club-lomas-de-city-bell/
LOCATION:Guido\, Guido 800\, Quilmes\, Buenos Aires\, 1878\, Argentina
END:VEVENT
BEGIN:VEVENT
DTSTART;VALUE=DATE:20251123
DTEND;VALUE=DATE:20251124
DTSTAMP:20260424T071717
CREATED:20251110T201802Z
LAST-MODIFIED:20251110T201802Z
UID:2117-1763856000-1763942399@oldgeorgianclub.com.ar
SUMMARY:Old Georgian Cricket M15 vs. Bede´s
DESCRIPTION:11.00 hs.
URL:https://oldgeorgianclub.com.ar/index.php/evento/old-georgian-cricket-m15-vs-bedes/
LOCATION:OldG Cricket\, Guido 800\, Quilmes\, Buenos Aires\, 1878\, Argentina
END:VEVENT
BEGIN:VEVENT
DTSTART;VALUE=DATE:20251123
DTEND;VALUE=DATE:20251124
DTSTAMP:20260424T071717
CREATED:20251120T201313Z
LAST-MODIFIED:20251120T201313Z
UID:2176-1763856000-1763942399@oldgeorgianclub.com.ar
SUMMARY:Old Georgian Tennis – Copa Primavera
DESCRIPTION:A partir de las 10.00 hs.
URL:https://oldgeorgianclub.com.ar/index.php/evento/old-georgian-tennis-copa-primavera-2/
LOCATION:Guido\, Guido 800\, Quilmes\, Buenos Aires\, 1878\, Argentina
END:VEVENT
BEGIN:VEVENT
DTSTART;VALUE=DATE:20251124
DTEND;VALUE=DATE:20251125
DTSTAMP:20260424T071717
CREATED:20251110T201907Z
LAST-MODIFIED:20251110T201907Z
UID:2119-1763942400-1764028799@oldgeorgianclub.com.ar
SUMMARY:Old Georgian Cricket vs. Bede´s
DESCRIPTION:15 hs. Div. 2
URL:https://oldgeorgianclub.com.ar/index.php/evento/old-georgian-cricket-vs-bedes/
LOCATION:OldG Cricket\, Guido 800\, Quilmes\, Buenos Aires\, 1878\, Argentina
END:VEVENT
BEGIN:VEVENT
DTSTART;VALUE=DATE:20251128
DTEND;VALUE=DATE:20251129
DTSTAMP:20260424T071717
CREATED:20251126T205859Z
LAST-MODIFIED:20251126T205859Z
UID:2185-1764288000-1764374399@oldgeorgianclub.com.ar
SUMMARY:Old Georgian Tennis vs. Nuevo Quilmes
DESCRIPTION:16.00 hs. Liga Country Sur
URL:https://oldgeorgianclub.com.ar/index.php/evento/old-georgian-tennis-vs-nuevo-quilmes/
LOCATION:Guido\, Guido 800\, Quilmes\, Buenos Aires\, 1878\, Argentina
END:VEVENT
BEGIN:VEVENT
DTSTART;VALUE=DATE:20251129
DTEND;VALUE=DATE:20251130
DTSTAMP:20260424T071717
CREATED:20251110T202125Z
LAST-MODIFIED:20251110T202125Z
UID:2122-1764374400-1764460799@oldgeorgianclub.com.ar
SUMMARY:Lomas A.C. vs. Old Georgian Cricket M15
DESCRIPTION:10.00 hs.
URL:https://oldgeorgianclub.com.ar/index.php/evento/lomas-a-c-vs-old-georgian-cricket-m15/
LOCATION:Lomas A.C. Anexo Links
END:VEVENT
BEGIN:VEVENT
DTSTART;VALUE=DATE:20251129
DTEND;VALUE=DATE:20251130
DTSTAMP:20260424T071717
CREATED:20251125T201246Z
LAST-MODIFIED:20251125T201246Z
UID:2181-1764374400-1764460799@oldgeorgianclub.com.ar
SUMMARY:Old Georgian Rugby M17 - Seven de la URBA
DESCRIPTION:Sede Monte Grande a partir de las 12.00 hs.
URL:https://oldgeorgianclub.com.ar/index.php/evento/old-georgian-rugby-m17-seven-de-la-urba/
END:VEVENT
BEGIN:VEVENT
DTSTART;VALUE=DATE:20251129
DTEND;VALUE=DATE:20251130
DTSTAMP:20260424T071717
CREATED:20251126T205929Z
LAST-MODIFIED:20251126T205929Z
UID:2187-1764374400-1764460799@oldgeorgianclub.com.ar
SUMMARY:Old Georgian Tennis – Copa Primavera Masculina
DESCRIPTION:A partir de las 10.00 hs.
URL:https://oldgeorgianclub.com.ar/index.php/evento/old-georgian-tennis-copa-primavera-masculina-7/
LOCATION:Guido\, Guido 800\, Quilmes\, Buenos Aires\, 1878\, Argentina
END:VEVENT
BEGIN:VEVENT
DTSTART;VALUE=DATE:20251129
DTEND;VALUE=DATE:20251130
DTSTAMP:20260424T071717
CREATED:20251126T210011Z
LAST-MODIFIED:20251126T210011Z
UID:2189-1764374400-1764460799@oldgeorgianclub.com.ar
SUMMARY:Old Georgian Tennis vs. Grand Bell
DESCRIPTION:16.00 hs. Liga Country Sur
URL:https://oldgeorgianclub.com.ar/index.php/evento/old-georgian-tennis-vs-grand-bell/
LOCATION:Guido\, Guido 800\, Quilmes\, Buenos Aires\, 1878\, Argentina
END:VEVENT
BEGIN:VEVENT
DTSTART;VALUE=DATE:20251130
DTEND;VALUE=DATE:20251201
DTSTAMP:20260424T071717
CREATED:20251120T133836Z
LAST-MODIFIED:20251120T133836Z
UID:2164-1764460800-1764547199@oldgeorgianclub.com.ar
SUMMARY:Old Georgian Basquet A vs. Atlético Boulogne
DESCRIPTION:20.00 hs.
URL:https://oldgeorgianclub.com.ar/index.php/evento/old-georgian-basquet-a-vs-atletico-boulogne/
LOCATION:OLD G Basquet\, Gral. Mosconi 3595\, Los Polvorines\, Buenos Aires\, Argentina
END:VEVENT
BEGIN:VEVENT
DTSTART;VALUE=DATE:20251130
DTEND;VALUE=DATE:20251201
DTSTAMP:20260424T071717
CREATED:20251125T201329Z
LAST-MODIFIED:20251125T201329Z
UID:2183-1764460800-1764547199@oldgeorgianclub.com.ar
SUMMARY:Old Georgian Rugby M15 - Seven de la URBA
DESCRIPTION:Sede Luján a partir de las 11.00 hs.
URL:https://oldgeorgianclub.com.ar/index.php/evento/old-georgian-rugby-m15-seven-de-la-urba/
END:VEVENT
BEGIN:VEVENT
DTSTART;VALUE=DATE:20251206
DTEND;VALUE=DATE:20251207
DTSTAMP:20260424T071717
CREATED:20251110T202239Z
LAST-MODIFIED:20251110T202239Z
UID:2125-1764979200-1765065599@oldgeorgianclub.com.ar
SUMMARY:Old Georgian Cricket vs. Lomas A.C.
DESCRIPTION:10.00 hs. Div. 2 / 15.00 hs. Div. 1
URL:https://oldgeorgianclub.com.ar/index.php/evento/old-georgian-cricket-vs-lomas-a-c/
LOCATION:OldG Cricket\, Guido 800\, Quilmes\, Buenos Aires\, 1878\, Argentina
END:VEVENT
BEGIN:VEVENT
DTSTART;VALUE=DATE:20251206
DTEND;VALUE=DATE:20251207
DTSTAMP:20260424T071717
CREATED:20251113T135957Z
LAST-MODIFIED:20251205T193200Z
UID:2147-1764979200-1765065599@oldgeorgianclub.com.ar
SUMMARY:Old Georgian Fútbol Senior vs. Los Troncos
DESCRIPTION:16.00 hs.
URL:https://oldgeorgianclub.com.ar/index.php/evento/old-georgian-futbol-senior-vs-los-troncos/
LOCATION:OLDG Futbol\, Guido 837\, Quilmes\, Buenos Aires\, 1878\, Argentina
END:VEVENT
BEGIN:VEVENT
DTSTART;VALUE=DATE:20251207
DTEND;VALUE=DATE:20251208
DTSTAMP:20260424T071717
CREATED:20251110T202419Z
LAST-MODIFIED:20251110T202419Z
UID:2127-1765065600-1765151999@oldgeorgianclub.com.ar
SUMMARY:Old Georgian Cricket M15 vs. Club San Albano
DESCRIPTION:11.00 hs.
URL:https://oldgeorgianclub.com.ar/index.php/evento/old-georgian-cricket-m15-vs-club-san-albano/
LOCATION:OldG Cricket\, Guido 800\, Quilmes\, Buenos Aires\, 1878\, Argentina
END:VEVENT
BEGIN:VEVENT
DTSTART;VALUE=DATE:20251207
DTEND;VALUE=DATE:20251208
DTSTAMP:20260424T071717
CREATED:20251125T200844Z
LAST-MODIFIED:20251125T200844Z
UID:2179-1765065600-1765151999@oldgeorgianclub.com.ar
SUMMARY:Villa Sahores vs. Old Georgian Basquet A
DESCRIPTION:20.00 hs.
URL:https://oldgeorgianclub.com.ar/index.php/evento/villa-sahores-vs-old-georgian-basquet-a/
END:VEVENT
BEGIN:VEVENT
DTSTART;VALUE=DATE:20251213
DTEND;VALUE=DATE:20251214
DTSTAMP:20260424T071717
CREATED:20251110T210246Z
LAST-MODIFIED:20251110T210246Z
UID:2130-1765584000-1765670399@oldgeorgianclub.com.ar
SUMMARY:Belgrano Lions vs. Old Georgian Cricket
DESCRIPTION:15.00 hs. Div. 1
URL:https://oldgeorgianclub.com.ar/index.php/evento/belgrano-lions-vs-old-georgian-cricket/
END:VEVENT
BEGIN:VEVENT
DTSTART;VALUE=DATE:20251213
DTEND;VALUE=DATE:20251214
DTSTAMP:20260424T071717
CREATED:20251211T133606Z
LAST-MODIFIED:20251211T133606Z
UID:2193-1765584000-1765670399@oldgeorgianclub.com.ar
SUMMARY:Old Georgian Tennis – Copa Primavera Single y Dobles
DESCRIPTION:A partir de las 11.00 hs.
URL:https://oldgeorgianclub.com.ar/index.php/evento/old-georgian-tennis-copa-primavera-single-y-dobles/
LOCATION:Guido\, Guido 800\, Quilmes\, Buenos Aires\, 1878\, Argentina
END:VEVENT
BEGIN:VEVENT
DTSTART;VALUE=DATE:20251213
DTEND;VALUE=DATE:20251214
DTSTAMP:20260424T071717
CREATED:20251211T134302Z
LAST-MODIFIED:20251211T134302Z
UID:2195-1765584000-1765670399@oldgeorgianclub.com.ar
SUMMARY:Old Georgian Futbol Senior vs. Ducilo
DESCRIPTION:16.00 hs. Cuartos de final
URL:https://oldgeorgianclub.com.ar/index.php/evento/old-georgian-futbol-senior-vs-ducilo/
LOCATION:OLDG Futbol\, Guido 837\, Quilmes\, Buenos Aires\, 1878\, Argentina
END:VEVENT
BEGIN:VEVENT
DTSTART;VALUE=DATE:20251220
DTEND;VALUE=DATE:20251221
DTSTAMP:20260424T071717
CREATED:20251120T134116Z
LAST-MODIFIED:20251217T131626Z
UID:2166-1766188800-1766275199@oldgeorgianclub.com.ar
SUMMARY:Old Georgian Fútbol Senior vs. Estrella del Sud
DESCRIPTION:17.00 hs. Semifinal
URL:https://oldgeorgianclub.com.ar/index.php/evento/old-georgian-futbol-senior-vs-c-s-awash/
LOCATION:OLDG Futbol\, Guido 837\, Quilmes\, Buenos Aires\, 1878\, Argentina
END:VEVENT
BEGIN:VEVENT
DTSTART;VALUE=DATE:20251220
DTEND;VALUE=DATE:20251221
DTSTAMP:20260424T071717
CREATED:20251218T132125Z
LAST-MODIFIED:20251218T132125Z
UID:2198-1766188800-1766275199@oldgeorgianclub.com.ar
SUMMARY:Old Georgian Tennis – Copa Primavera Masculina Single
DESCRIPTION:9.30 hs. Cuartos de final
URL:https://oldgeorgianclub.com.ar/index.php/evento/old-georgian-tennis-copa-primavera-masculina-single/
LOCATION:Guido\, Guido 800\, Quilmes\, Buenos Aires\, 1878\, Argentina
END:VEVENT
BEGIN:VEVENT
DTSTART;VALUE=DATE:20251227
DTEND;VALUE=DATE:20251228
DTSTAMP:20260424T071717
CREATED:20251223T134249Z
LAST-MODIFIED:20251226T130028Z
UID:2201-1766793600-1766879999@oldgeorgianclub.com.ar
SUMMARY:Los Troncos vs. Old Georgian Fútbol Senior
DESCRIPTION:17.00 hs. Final
URL:https://oldgeorgianclub.com.ar/index.php/evento/los-troncos-vs-old-georgian-futbol-senior/
END:VEVENT
BEGIN:VEVENT
DTSTART;VALUE=DATE:20260208
DTEND;VALUE=DATE:20260209
DTSTAMP:20260424T071717
CREATED:20260206T143837Z
LAST-MODIFIED:20260206T143837Z
UID:2205-1770508800-1770595199@oldgeorgianclub.com.ar
SUMMARY:Old Georgian Cricket vs. San Albano
DESCRIPTION:11.00 hs. Div. 2
URL:https://oldgeorgianclub.com.ar/index.php/evento/old-georgian-cricket-vs-san-albano/
LOCATION:OldG Cricket\, Guido 800\, Quilmes\, Buenos Aires\, 1878\, Argentina
END:VEVENT
BEGIN:VEVENT
DTSTART;VALUE=DATE:20260221
DTEND;VALUE=DATE:20260222
DTSTAMP:20260424T071717
CREATED:20260206T144004Z
LAST-MODIFIED:20260206T144004Z
UID:2207-1771632000-1771718399@oldgeorgianclub.com.ar
SUMMARY:Old Georgian Cricket vs. Belgrano A.C.
DESCRIPTION:11.00 hs. Div. 2
URL:https://oldgeorgianclub.com.ar/index.php/evento/old-georgian-cricket-vs-belgrano-a-c/
LOCATION:OldG Cricket\, Guido 800\, Quilmes\, Buenos Aires\, 1878\, Argentina
END:VEVENT
BEGIN:VEVENT
DTSTART;VALUE=DATE:20260221
DTEND;VALUE=DATE:20260222
DTSTAMP:20260424T071717
CREATED:20260219T123753Z
LAST-MODIFIED:20260219T123753Z
UID:2215-1771632000-1771718399@oldgeorgianclub.com.ar
SUMMARY:Old Georgian Fútbol Senior vs. Golondrinas
DESCRIPTION:17.00 hs.
URL:https://oldgeorgianclub.com.ar/index.php/evento/old-georgian-futbol-senior-vs-golondrinas/
LOCATION:OLDG Futbol\, Guido 837\, Quilmes\, Buenos Aires\, 1878\, Argentina
END:VEVENT
BEGIN:VEVENT
DTSTART;VALUE=DATE:20260221
DTEND;VALUE=DATE:20260222
DTSTAMP:20260424T071717
CREATED:20260219T203841Z
LAST-MODIFIED:20260219T203841Z
UID:2217-1771632000-1771718399@oldgeorgianclub.com.ar
SUMMARY:Old Georgian Tennis – Torneo de Verano Caballeros
DESCRIPTION:9.30 hs. (Single y Dobles)
URL:https://oldgeorgianclub.com.ar/index.php/evento/old-georgian-tennis-torneo-de-verano-caballeros/
LOCATION:Guido\, Guido 800\, Quilmes\, Buenos Aires\, 1878\, Argentina
END:VEVENT
END:VCALENDAR