BEGIN:VCALENDAR
VERSION:2.0
PRODID:-//OGC - ECPv6.3.2//NONSGML v1.0//EN
CALSCALE:GREGORIAN
METHOD:PUBLISH
X-ORIGINAL-URL:https://oldgeorgianclub.com.ar
X-WR-CALDESC:Eventos para OGC
REFRESH-INTERVAL;VALUE=DURATION:PT1H
X-Robots-Tag:noindex
X-PUBLISHED-TTL:PT1H
BEGIN:VTIMEZONE
TZID:America/Sao_Paulo
BEGIN:STANDARD
TZOFFSETFROM:-0300
TZOFFSETTO:-0300
TZNAME:-03
DTSTART:20260101T000000
END:STANDARD
END:VTIMEZONE
BEGIN:VEVENT
DTSTART;VALUE=DATE:20260419
DTEND;VALUE=DATE:20260420
DTSTAMP:20260423T155156
CREATED:20260416T170609Z
LAST-MODIFIED:20260416T170609Z
UID:2419-1776556800-1776643199@oldgeorgianclub.com.ar
SUMMARY:Old Georgian Tennis vs. Paraíso Tenis Club
DESCRIPTION:10.00 hs. Copa Amistad Damas +50 A
URL:https://oldgeorgianclub.com.ar/index.php/evento/old-georgian-tennis-vs-paraiso-tenis-club/
LOCATION:Old Georgian Tennis\, Guido 675\, Quilmes
END:VEVENT
BEGIN:VEVENT
DTSTART;VALUE=DATE:20260419
DTEND;VALUE=DATE:20260420
DTSTAMP:20260423T155156
CREATED:20260416T163627Z
LAST-MODIFIED:20260416T163627Z
UID:2414-1776556800-1776643199@oldgeorgianclub.com.ar
SUMMARY:Old Georgian Rugby M19 vs. Luján
DESCRIPTION:B 12.30 hs. / A 14.00 hs.
URL:https://oldgeorgianclub.com.ar/index.php/evento/old-georgian-rugby-m19-vs-lujan/
LOCATION:OLDG Rugby\, Guido 837\, Quilmes\, Buenos Aires\, 1878\, Argentina
END:VEVENT
BEGIN:VEVENT
DTSTART;VALUE=DATE:20260419
DTEND;VALUE=DATE:20260420
DTSTAMP:20260423T155156
CREATED:20260416T163547Z
LAST-MODIFIED:20260416T163547Z
UID:2412-1776556800-1776643199@oldgeorgianclub.com.ar
SUMMARY:Old Georgian Rugby M17 vs. San Carlos
DESCRIPTION:11.00 hs.
URL:https://oldgeorgianclub.com.ar/index.php/evento/old-georgian-rugby-m17-vs-san-carlos/
LOCATION:OLDG Rugby\, Guido 837\, Quilmes\, Buenos Aires\, 1878\, Argentina
END:VEVENT
BEGIN:VEVENT
DTSTART;VALUE=DATE:20260419
DTEND;VALUE=DATE:20260420
DTSTAMP:20260423T155156
CREATED:20260416T163511Z
LAST-MODIFIED:20260416T163511Z
UID:2410-1776556800-1776643199@oldgeorgianclub.com.ar
SUMMARY:Old Georgian Rugby M15 vs. Centro Naval
DESCRIPTION:9.30 hs.
URL:https://oldgeorgianclub.com.ar/index.php/evento/old-georgian-rugby-m15-vs-centro-naval/
LOCATION:OLDG Rugby\, Guido 837\, Quilmes\, Buenos Aires\, 1878\, Argentina
END:VEVENT
BEGIN:VEVENT
DTSTART;VALUE=DATE:20260418
DTEND;VALUE=DATE:20260419
DTSTAMP:20260423T155156
CREATED:20260416T170828Z
LAST-MODIFIED:20260416T170828Z
UID:2423-1776470400-1776556799@oldgeorgianclub.com.ar
SUMMARY:Old Georgian Tennis vs. Miralagos
DESCRIPTION:16.00 hs. Liga Intercountry Damas Cuarta \n 
URL:https://oldgeorgianclub.com.ar/index.php/evento/old-georgian-tennis-vs-miralagos/
LOCATION:Old Georgian Tennis\, Guido 675\, Quilmes
END:VEVENT
BEGIN:VEVENT
DTSTART;VALUE=DATE:20260418
DTEND;VALUE=DATE:20260419
DTSTAMP:20260423T155156
CREATED:20260416T170729Z
LAST-MODIFIED:20260416T170729Z
UID:2421-1776470400-1776556799@oldgeorgianclub.com.ar
SUMMARY:Old Georgian Tennis vs. Parque Tenis
DESCRIPTION:14.00 hs. Liga Intercountry Damas Segunda
URL:https://oldgeorgianclub.com.ar/index.php/evento/old-georgian-tennis-vs-parque-tenis-2/
LOCATION:Old Georgian Tennis\, Guido 675\, Quilmes
END:VEVENT
BEGIN:VEVENT
DTSTART;VALUE=DATE:20260418
DTEND;VALUE=DATE:20260419
DTSTAMP:20260423T155156
CREATED:20260416T163843Z
LAST-MODIFIED:20260416T163843Z
UID:2416-1776470400-1776556799@oldgeorgianclub.com.ar
SUMMARY:Old Georgian Rugby Pre-Intermedia vs. Montegrande
DESCRIPTION:11.00 hs.
URL:https://oldgeorgianclub.com.ar/index.php/evento/old-georgian-rugby-pre-intermedia-vs-montegrande/
LOCATION:OLDG Rugby\, Guido 837\, Quilmes\, Buenos Aires\, 1878\, Argentina
END:VEVENT
BEGIN:VEVENT
DTSTART;VALUE=DATE:20260418
DTEND;VALUE=DATE:20260419
DTSTAMP:20260423T155156
CREATED:20260416T163323Z
LAST-MODIFIED:20260416T163323Z
UID:2408-1776470400-1776556799@oldgeorgianclub.com.ar
SUMMARY:Old Georgian Fútbol vs. Ducilo
DESCRIPTION:15.00 hs.
URL:https://oldgeorgianclub.com.ar/index.php/evento/old-georgian-futbol-vs-ducilo/
LOCATION:OLDG Futbol\, Guido 837\, Quilmes\, Buenos Aires\, 1878\, Argentina
END:VEVENT
BEGIN:VEVENT
DTSTART;VALUE=DATE:20260418
DTEND;VALUE=DATE:20260419
DTSTAMP:20260423T155156
CREATED:20260416T163015Z
LAST-MODIFIED:20260416T163359Z
UID:2405-1776470400-1776556799@oldgeorgianclub.com.ar
SUMMARY:Banco Nación B vs. Old Georgian Hockey Cuarta
DESCRIPTION:18.00 hs.
URL:https://oldgeorgianclub.com.ar/index.php/evento/banco-nacion-b-vs-old-georgian-hockey-cuarta/
LOCATION:Banco Nación
END:VEVENT
BEGIN:VEVENT
DTSTART;VALUE=DATE:20260418
DTEND;VALUE=DATE:20260419
DTSTAMP:20260423T155156
CREATED:20260416T162840Z
LAST-MODIFIED:20260416T163200Z
UID:2403-1776470400-1776556799@oldgeorgianclub.com.ar
SUMMARY:Old Georgian Hockey Segunda vs. Quilmes High School
DESCRIPTION:18.00 hs.
URL:https://oldgeorgianclub.com.ar/index.php/evento/old-georgian-hockey-segunda-vs-quilmes-high-school/
LOCATION:Old Georgian Hockey\, Guido 800\, Quilmes\, Buenos Aires\, 1878\, Argentina
END:VEVENT
BEGIN:VEVENT
DTSTART;VALUE=DATE:20260418
DTEND;VALUE=DATE:20260419
DTSTAMP:20260423T155156
CREATED:20260319T141338Z
LAST-MODIFIED:20260319T141338Z
UID:2300-1776470400-1776556799@oldgeorgianclub.com.ar
SUMMARY:Old Georgian Rugby vs. San Marcos
DESCRIPTION:Intermedia 13.45 hs. / Primera 15.30 hs.
URL:https://oldgeorgianclub.com.ar/index.php/evento/old-georgian-rugby-vs-san-marcos/
LOCATION:OLDG Rugby\, Guido 837\, Quilmes\, Buenos Aires\, 1878\, Argentina
END:VEVENT
BEGIN:VEVENT
DTSTART;VALUE=DATE:20260418
DTEND;VALUE=DATE:20260419
DTSTAMP:20260423T155156
CREATED:20260319T132817Z
LAST-MODIFIED:20260319T132817Z
UID:2282-1776470400-1776556799@oldgeorgianclub.com.ar
SUMMARY:Campana B.C. vs. Old Georgian Hockey
DESCRIPTION:Inferiores a partir de las 9 hs. / Intermedia: 14.30 hs. / Primera: 16.00 hs.
URL:https://oldgeorgianclub.com.ar/index.php/evento/campana-b-c-vs-old-georgian-hockey/
LOCATION:Campana
END:VEVENT
BEGIN:VEVENT
DTSTART;VALUE=DATE:20260412
DTEND;VALUE=DATE:20260413
DTSTAMP:20260423T155156
CREATED:20260410T141921Z
LAST-MODIFIED:20260410T141921Z
UID:2399-1775952000-1776038399@oldgeorgianclub.com.ar
SUMMARY:Banco Nación vs. Old Georgian Rugby M17
DESCRIPTION:12.30 hs.
URL:https://oldgeorgianclub.com.ar/index.php/evento/banco-nacion-vs-old-georgian-rugby-m17/
LOCATION:San Patricio
END:VEVENT
BEGIN:VEVENT
DTSTART;VALUE=DATE:20260412
DTEND;VALUE=DATE:20260413
DTSTAMP:20260423T155156
CREATED:20260409T190445Z
LAST-MODIFIED:20260409T190445Z
UID:2397-1775952000-1776038399@oldgeorgianclub.com.ar
SUMMARY:Old Georgian Tennis vs. Tenis Avellaneda
DESCRIPTION:12.00 hs. Copa Amistad Caballeros +14 B2
URL:https://oldgeorgianclub.com.ar/index.php/evento/old-georgian-tennis-vs-tenis-avellaneda/
LOCATION:Old Georgian Tennis\, Guido 675\, Quilmes
END:VEVENT
BEGIN:VEVENT
DTSTART;VALUE=DATE:20260412
DTEND;VALUE=DATE:20260413
DTSTAMP:20260423T155156
CREATED:20260409T190350Z
LAST-MODIFIED:20260409T190350Z
UID:2395-1775952000-1776038399@oldgeorgianclub.com.ar
SUMMARY:Old Georgian Tennis vs. Parque Tenis
DESCRIPTION:10.00 hs. Copa Amistad Damas +50 A
URL:https://oldgeorgianclub.com.ar/index.php/evento/old-georgian-tennis-vs-parque-tenis/
LOCATION:Old Georgian Tennis\, Guido 675\, Quilmes
END:VEVENT
BEGIN:VEVENT
DTSTART;VALUE=DATE:20260412
DTEND;VALUE=DATE:20260413
DTSTAMP:20260423T155156
CREATED:20260407T125735Z
LAST-MODIFIED:20260407T125735Z
UID:2385-1775952000-1776038399@oldgeorgianclub.com.ar
SUMMARY:Old Georgian Rugby M19 vs. Los Molinos
DESCRIPTION:12.30 hs. B / 14.00 hs. A
URL:https://oldgeorgianclub.com.ar/index.php/evento/old-georgian-rugby-m19-vs-los-molinos/
LOCATION:OLDG Rugby\, Guido 837\, Quilmes\, Buenos Aires\, 1878\, Argentina
END:VEVENT
BEGIN:VEVENT
DTSTART;VALUE=DATE:20260412
DTEND;VALUE=DATE:20260413
DTSTAMP:20260423T155156
CREATED:20260407T125612Z
LAST-MODIFIED:20260407T125612Z
UID:2383-1775952000-1776038399@oldgeorgianclub.com.ar
SUMMARY:C.A.R. vs. Old Georgian Rugby M15
DESCRIPTION:11.00 hs.
URL:https://oldgeorgianclub.com.ar/index.php/evento/c-a-r-vs-old-georgian-rugby-m15/
LOCATION:C.A.R.
END:VEVENT
BEGIN:VEVENT
DTSTART;VALUE=DATE:20260411
DTEND;VALUE=DATE:20260412
DTSTAMP:20260423T155156
CREATED:20260409T190236Z
LAST-MODIFIED:20260409T190236Z
UID:2392-1775865600-1775951999@oldgeorgianclub.com.ar
SUMMARY:Old Georgian Tennis B1 vs. Lanús
DESCRIPTION:18.00 hs. Copa Amistad Caballeros
URL:https://oldgeorgianclub.com.ar/index.php/evento/old-georgian-tennis-b1-vs-lanus/
LOCATION:Old Georgian Tennis\, Guido 675\, Quilmes
END:VEVENT
BEGIN:VEVENT
DTSTART;VALUE=DATE:20260411
DTEND;VALUE=DATE:20260412
DTSTAMP:20260423T155156
CREATED:20260409T190130Z
LAST-MODIFIED:20260409T190130Z
UID:2390-1775865600-1775951999@oldgeorgianclub.com.ar
SUMMARY:Old Georgian Tennis 3ra. vs. Mármol
DESCRIPTION:16.00 hs. Liga Intercountry
URL:https://oldgeorgianclub.com.ar/index.php/evento/old-georgian-tennis-3ra-vs-marmol/
LOCATION:Old Georgian Tennis\, Guido 675\, Quilmes
END:VEVENT
BEGIN:VEVENT
DTSTART;VALUE=DATE:20260411
DTEND;VALUE=DATE:20260412
DTSTAMP:20260423T155156
CREATED:20260409T190040Z
LAST-MODIFIED:20260409T190040Z
UID:2388-1775865600-1775951999@oldgeorgianclub.com.ar
SUMMARY:Old Georgian Tennis 1ra. vs. Miralagos
DESCRIPTION:14.00 hs. Liga Intercountry
URL:https://oldgeorgianclub.com.ar/index.php/evento/old-georgian-tennis-1ra-vs-miralagos/
LOCATION:Old Georgian Tennis\, Guido 675\, Quilmes
END:VEVENT
BEGIN:VEVENT
DTSTART;VALUE=DATE:20260411
DTEND;VALUE=DATE:20260412
DTSTAMP:20260423T155156
CREATED:20260407T124413Z
LAST-MODIFIED:20260407T124413Z
UID:2376-1775865600-1775951999@oldgeorgianclub.com.ar
SUMMARY:Old Georgian Hockey Cuarta vs. AACF Quilmes
DESCRIPTION:18.00 hs.
URL:https://oldgeorgianclub.com.ar/index.php/evento/old-georgian-hockey-cuarta-vs-aacf-quilmes/
LOCATION:Old Georgian Hockey\, Guido 800\, Quilmes\, Buenos Aires\, 1878\, Argentina
END:VEVENT
BEGIN:VEVENT
DTSTART;VALUE=DATE:20260411
DTEND;VALUE=DATE:20260412
DTSTAMP:20260423T155156
CREATED:20260407T124304Z
LAST-MODIFIED:20260407T124304Z
UID:2373-1775865600-1775951999@oldgeorgianclub.com.ar
SUMMARY:C.A. Pilar vs. Old Georgian Hockey Segunda
DESCRIPTION:18.00 hs.
URL:https://oldgeorgianclub.com.ar/index.php/evento/c-a-pilar-vs-old-georgian-hockey-segunda/
LOCATION:C.A. Pilar
END:VEVENT
BEGIN:VEVENT
DTSTART;VALUE=DATE:20260411
DTEND;VALUE=DATE:20260412
DTSTAMP:20260423T155156
CREATED:20260407T124002Z
LAST-MODIFIED:20260407T124002Z
UID:2370-1775865600-1775951999@oldgeorgianclub.com.ar
SUMMARY:Los Troncos vs. Old Georgian Fútbol
DESCRIPTION:17.00 hs.
URL:https://oldgeorgianclub.com.ar/index.php/evento/los-troncos-vs-old-georgian-futbol/
LOCATION:Los Troncos
END:VEVENT
BEGIN:VEVENT
DTSTART;VALUE=DATE:20260411
DTEND;VALUE=DATE:20260412
DTSTAMP:20260423T155156
CREATED:20260319T141240Z
LAST-MODIFIED:20260407T124536Z
UID:2297-1775865600-1775951999@oldgeorgianclub.com.ar
SUMMARY:Tiro F. de San Pedro vs. Old Georgian Rugby
DESCRIPTION:Pre-Intermedia 12.00 hs. / Intermedia 13.45 hs. / Primera 15.30 hs.
URL:https://oldgeorgianclub.com.ar/index.php/evento/tiro-f-de-san-pedro-vs-old-georgian-rugby/
LOCATION:Tiro F. San Pedro
END:VEVENT
BEGIN:VEVENT
DTSTART;VALUE=DATE:20260411
DTEND;VALUE=DATE:20260412
DTSTAMP:20260423T155156
CREATED:20260319T132715Z
LAST-MODIFIED:20260407T130326Z
UID:2280-1775865600-1775951999@oldgeorgianclub.com.ar
SUMMARY:Old Georgian Hockey vs. Pueyrredón
DESCRIPTION:Inferiores a partir de las 9 hs. / Intermedia: 14.30 hs. / Primera: 16.00 hs.
URL:https://oldgeorgianclub.com.ar/index.php/evento/old-georgian-hockey-vs-pueyrredon-2/
LOCATION:Old Georgian Hockey\, Guido 800\, Quilmes\, Buenos Aires\, 1878\, Argentina
END:VEVENT
BEGIN:VEVENT
DTSTART;VALUE=DATE:20260404
DTEND;VALUE=DATE:20260405
DTSTAMP:20260423T155156
CREATED:20260403T175727Z
LAST-MODIFIED:20260403T175727Z
UID:2367-1775260800-1775347199@oldgeorgianclub.com.ar
SUMMARY:Old Georgian Tennis vs. Vélez Sarsfield
DESCRIPTION:18.00 hs. Copa Amistad Caballeros
URL:https://oldgeorgianclub.com.ar/index.php/evento/old-georgian-tennis-vs-velez-sarsfield/
LOCATION:Old Georgian Tennis\, Guido 675\, Quilmes
END:VEVENT
BEGIN:VEVENT
DTSTART;VALUE=DATE:20260404
DTEND;VALUE=DATE:20260405
DTSTAMP:20260423T155156
CREATED:20260403T175625Z
LAST-MODIFIED:20260403T175625Z
UID:2365-1775260800-1775347199@oldgeorgianclub.com.ar
SUMMARY:Old Georgian Tennis vs. Lanús
DESCRIPTION:16.00 hs. Copa Amistad Caballeros
URL:https://oldgeorgianclub.com.ar/index.php/evento/old-georgian-tennis-vs-lanus/
LOCATION:Old Georgian Tennis\, Guido 675\, Quilmes
END:VEVENT
BEGIN:VEVENT
DTSTART;VALUE=DATE:20260404
DTEND;VALUE=DATE:20260405
DTSTAMP:20260423T155156
CREATED:20260403T175512Z
LAST-MODIFIED:20260403T175512Z
UID:2363-1775260800-1775347199@oldgeorgianclub.com.ar
SUMMARY:Old Georgian Tennis - Torneo de Verano
DESCRIPTION:10.00 hs. Single
URL:https://oldgeorgianclub.com.ar/index.php/evento/old-georgian-tennis-torneo-de-verano/
LOCATION:Old Georgian Tennis\, Guido 675\, Quilmes
END:VEVENT
BEGIN:VEVENT
DTSTART;VALUE=DATE:20260403
DTEND;VALUE=DATE:20260404
DTSTAMP:20260423T155156
CREATED:20260403T175337Z
LAST-MODIFIED:20260403T175337Z
UID:2361-1775174400-1775260799@oldgeorgianclub.com.ar
SUMMARY:Old Georgian Tennis vs. Los Troncos
DESCRIPTION:18.00 hs. Copa Bequi
URL:https://oldgeorgianclub.com.ar/index.php/evento/old-georgian-tennis-vs-los-troncos-2/
LOCATION:Old Georgian Tennis\, Guido 675\, Quilmes
END:VEVENT
BEGIN:VEVENT
DTSTART;VALUE=DATE:20260403
DTEND;VALUE=DATE:20260404
DTSTAMP:20260423T155156
CREATED:20260403T175250Z
LAST-MODIFIED:20260403T175250Z
UID:2359-1775174400-1775260799@oldgeorgianclub.com.ar
SUMMARY:Old Georgian Tennis 4ta. vs. Nuevo Quilmes
DESCRIPTION:16.00 hs. Liga Intercountry
URL:https://oldgeorgianclub.com.ar/index.php/evento/old-georgian-tennis-4ta-vs-nuevo-quilmes/
LOCATION:Old Georgian Tennis\, Guido 675\, Quilmes
END:VEVENT
END:VCALENDAR