BEGIN:VCALENDAR
VERSION:2.0
PRODID:-//OGC - ECPv6.3.2//NONSGML v1.0//EN
CALSCALE:GREGORIAN
METHOD:PUBLISH
X-ORIGINAL-URL:https://oldgeorgianclub.com.ar
X-WR-CALDESC:Eventos para OGC
REFRESH-INTERVAL;VALUE=DURATION:PT1H
X-Robots-Tag:noindex
X-PUBLISHED-TTL:PT1H
BEGIN:VTIMEZONE
TZID:America/Sao_Paulo
BEGIN:STANDARD
TZOFFSETFROM:-0300
TZOFFSETTO:-0300
TZNAME:-03
DTSTART:20260101T000000
END:STANDARD
END:VTIMEZONE
BEGIN:VEVENT
DTSTART;VALUE=DATE:20260222
DTEND;VALUE=DATE:20260223
DTSTAMP:20260423T195720
CREATED:20260206T144750Z
LAST-MODIFIED:20260206T144750Z
UID:2209-1771718400-1771804799@oldgeorgianclub.com.ar
SUMMARY:Old Georgian Cricket vs. Hurlingham
DESCRIPTION:15.00 hs. Div. 1
URL:https://oldgeorgianclub.com.ar/index.php/evento/old-georgian-cricket-vs-hurlingham/
LOCATION:OldG Cricket\, Guido 800\, Quilmes\, Buenos Aires\, 1878\, Argentina
END:VEVENT
BEGIN:VEVENT
DTSTART;VALUE=DATE:20260222
DTEND;VALUE=DATE:20260223
DTSTAMP:20260423T195720
CREATED:20260219T203944Z
LAST-MODIFIED:20260219T203944Z
UID:2219-1771718400-1771804799@oldgeorgianclub.com.ar
SUMMARY:Old Georgian Tennis – Torneo de Verano Caballeros
DESCRIPTION:9.30 hs. (Single y Dobles)
URL:https://oldgeorgianclub.com.ar/index.php/evento/old-georgian-tennis-torneo-de-verano-caballeros-2/
END:VEVENT
END:VCALENDAR