BEGIN:VCALENDAR
VERSION:2.0
PRODID:-//OGC - ECPv6.3.2//NONSGML v1.0//EN
CALSCALE:GREGORIAN
METHOD:PUBLISH
X-WR-CALNAME:OGC
X-ORIGINAL-URL:https://oldgeorgianclub.com.ar
X-WR-CALDESC:Eventos para OGC
REFRESH-INTERVAL;VALUE=DURATION:PT1H
X-Robots-Tag:noindex
X-PUBLISHED-TTL:PT1H
BEGIN:VTIMEZONE
TZID:America/Sao_Paulo
BEGIN:STANDARD
TZOFFSETFROM:-0300
TZOFFSETTO:-0300
TZNAME:-03
DTSTART:20260101T000000
END:STANDARD
END:VTIMEZONE
BEGIN:VEVENT
DTSTART;VALUE=DATE:20260221
DTEND;VALUE=DATE:20260222
DTSTAMP:20260423T195245
CREATED:20260206T144004Z
LAST-MODIFIED:20260206T144004Z
UID:2207-1771632000-1771718399@oldgeorgianclub.com.ar
SUMMARY:Old Georgian Cricket vs. Belgrano A.C.
DESCRIPTION:11.00 hs. Div. 2
URL:https://oldgeorgianclub.com.ar/index.php/evento/old-georgian-cricket-vs-belgrano-a-c/
LOCATION:OldG Cricket\, Guido 800\, Quilmes\, Buenos Aires\, 1878\, Argentina
END:VEVENT
BEGIN:VEVENT
DTSTART;VALUE=DATE:20260221
DTEND;VALUE=DATE:20260222
DTSTAMP:20260423T195245
CREATED:20260219T123753Z
LAST-MODIFIED:20260219T123753Z
UID:2215-1771632000-1771718399@oldgeorgianclub.com.ar
SUMMARY:Old Georgian Fútbol Senior vs. Golondrinas
DESCRIPTION:17.00 hs.
URL:https://oldgeorgianclub.com.ar/index.php/evento/old-georgian-futbol-senior-vs-golondrinas/
LOCATION:OLDG Futbol\, Guido 837\, Quilmes\, Buenos Aires\, 1878\, Argentina
END:VEVENT
BEGIN:VEVENT
DTSTART;VALUE=DATE:20260221
DTEND;VALUE=DATE:20260222
DTSTAMP:20260423T195245
CREATED:20260219T203841Z
LAST-MODIFIED:20260219T203841Z
UID:2217-1771632000-1771718399@oldgeorgianclub.com.ar
SUMMARY:Old Georgian Tennis – Torneo de Verano Caballeros
DESCRIPTION:9.30 hs. (Single y Dobles)
URL:https://oldgeorgianclub.com.ar/index.php/evento/old-georgian-tennis-torneo-de-verano-caballeros/
LOCATION:Guido\, Guido 800\, Quilmes\, Buenos Aires\, 1878\, Argentina
END:VEVENT
END:VCALENDAR