BEGIN:VCALENDAR
VERSION:2.0
PRODID:-//OGC - ECPv6.3.2//NONSGML v1.0//EN
CALSCALE:GREGORIAN
METHOD:PUBLISH
X-ORIGINAL-URL:https://oldgeorgianclub.com.ar
X-WR-CALDESC:Eventos para OGC
REFRESH-INTERVAL;VALUE=DURATION:PT1H
X-Robots-Tag:noindex
X-PUBLISHED-TTL:PT1H
BEGIN:VTIMEZONE
TZID:America/Sao_Paulo
BEGIN:STANDARD
TZOFFSETFROM:-0300
TZOFFSETTO:-0300
TZNAME:-03
DTSTART:20250101T000000
END:STANDARD
END:VTIMEZONE
BEGIN:VEVENT
DTSTART;VALUE=DATE:20251213
DTEND;VALUE=DATE:20251214
DTSTAMP:20260423T225228
CREATED:20251110T210246Z
LAST-MODIFIED:20251110T210246Z
UID:2130-1765584000-1765670399@oldgeorgianclub.com.ar
SUMMARY:Belgrano Lions vs. Old Georgian Cricket
DESCRIPTION:15.00 hs. Div. 1
URL:https://oldgeorgianclub.com.ar/index.php/evento/belgrano-lions-vs-old-georgian-cricket/
END:VEVENT
BEGIN:VEVENT
DTSTART;VALUE=DATE:20251213
DTEND;VALUE=DATE:20251214
DTSTAMP:20260423T225228
CREATED:20251211T133606Z
LAST-MODIFIED:20251211T133606Z
UID:2193-1765584000-1765670399@oldgeorgianclub.com.ar
SUMMARY:Old Georgian Tennis – Copa Primavera Single y Dobles
DESCRIPTION:A partir de las 11.00 hs.
URL:https://oldgeorgianclub.com.ar/index.php/evento/old-georgian-tennis-copa-primavera-single-y-dobles/
LOCATION:Guido\, Guido 800\, Quilmes\, Buenos Aires\, 1878\, Argentina
END:VEVENT
BEGIN:VEVENT
DTSTART;VALUE=DATE:20251213
DTEND;VALUE=DATE:20251214
DTSTAMP:20260423T225228
CREATED:20251211T134302Z
LAST-MODIFIED:20251211T134302Z
UID:2195-1765584000-1765670399@oldgeorgianclub.com.ar
SUMMARY:Old Georgian Futbol Senior vs. Ducilo
DESCRIPTION:16.00 hs. Cuartos de final
URL:https://oldgeorgianclub.com.ar/index.php/evento/old-georgian-futbol-senior-vs-ducilo/
LOCATION:OLDG Futbol\, Guido 837\, Quilmes\, Buenos Aires\, 1878\, Argentina
END:VEVENT
END:VCALENDAR