BEGIN:VCALENDAR
VERSION:2.0
PRODID:-//OGC - ECPv6.3.2//NONSGML v1.0//EN
CALSCALE:GREGORIAN
METHOD:PUBLISH
X-ORIGINAL-URL:https://oldgeorgianclub.com.ar
X-WR-CALDESC:Eventos para OGC
REFRESH-INTERVAL;VALUE=DURATION:PT1H
X-Robots-Tag:noindex
X-PUBLISHED-TTL:PT1H
BEGIN:VTIMEZONE
TZID:America/Sao_Paulo
BEGIN:STANDARD
TZOFFSETFROM:-0300
TZOFFSETTO:-0300
TZNAME:-03
DTSTART:20250101T000000
END:STANDARD
END:VTIMEZONE
BEGIN:VEVENT
DTSTART;VALUE=DATE:20251121
DTEND;VALUE=DATE:20251122
DTSTAMP:20260424T001338
CREATED:20251110T201426Z
LAST-MODIFIED:20251120T134908Z
UID:2112-1763683200-1763769599@oldgeorgianclub.com.ar
SUMMARY:Old Georgian Cricket vs. Cricket Sin Fronteras
DESCRIPTION:10.00 hs. Div. 2
URL:https://oldgeorgianclub.com.ar/index.php/evento/cricket-sin-fronteras-vs-old-georgian-cricket/
LOCATION:OldG Cricket\, Guido 800\, Quilmes\, Buenos Aires\, 1878\, Argentina
END:VEVENT
END:VCALENDAR