BEGIN:VCALENDAR
VERSION:2.0
PRODID:-//OGC - ECPv6.3.2//NONSGML v1.0//EN
CALSCALE:GREGORIAN
METHOD:PUBLISH
X-ORIGINAL-URL:https://oldgeorgianclub.com.ar
X-WR-CALDESC:Eventos para OGC
REFRESH-INTERVAL;VALUE=DURATION:PT1H
X-Robots-Tag:noindex
X-PUBLISHED-TTL:PT1H
BEGIN:VTIMEZONE
TZID:America/Sao_Paulo
BEGIN:STANDARD
TZOFFSETFROM:-0300
TZOFFSETTO:-0300
TZNAME:-03
DTSTART:20250101T000000
END:STANDARD
END:VTIMEZONE
BEGIN:VEVENT
DTSTART;VALUE=DATE:20251104
DTEND;VALUE=DATE:20251105
DTSTAMP:20260424T001323
CREATED:20251020T154750Z
LAST-MODIFIED:20251102T164526Z
UID:2011-1762214400-1762300799@oldgeorgianclub.com.ar
SUMMARY:Santa Bárbara D vs. Old Georgian Hockey
DESCRIPTION:Intermedia 20.30 hs. / Primera: 22.00 hs.
URL:https://oldgeorgianclub.com.ar/index.php/evento/santa-barbara-d-vs-old-georgian-hockey-2/
LOCATION:Santa Bárbara
END:VEVENT
END:VCALENDAR